BEGIN:VCALENDAR
PRODID:-//nuDatenautomaten//framework iCal4j //DE
VERSION:2.0
CALSCALE:GREGORIAN
BEGIN:VTIMEZONE
TZID:Europe/Berlin
LAST-MODIFIED:20260306T231828Z
TZURL:https://www.tzurl.org/zoneinfo/Europe/Berlin
X-LIC-LOCATION:Europe/Berlin
X-PROLEPTIC-TZNAME:LMT
BEGIN:STANDARD
TZNAME:CET
TZOFFSETFROM:+005328
TZOFFSETTO:+0100
DTSTART:18930401T000000
END:STANDARD
BEGIN:DAYLIGHT
TZNAME:CEST
TZOFFSETFROM:+0100
TZOFFSETTO:+0200
DTSTART:19160430T230000
RDATE:19400401T020000
RDATE:19430329T020000
RDATE:19460414T020000
RDATE:19470406T030000
RDATE:19480418T020000
RDATE:19490410T020000
RDATE:19800406T020000
END:DAYLIGHT
BEGIN:STANDARD
TZNAME:CET
TZOFFSETFROM:+0200
TZOFFSETTO:+0100
DTSTART:19161001T010000
RDATE:19421102T030000
RDATE:19431004T030000
RDATE:19441002T030000
RDATE:19451118T030000
RDATE:19461007T030000
END:STANDARD
BEGIN:DAYLIGHT
TZNAME:CEST
TZOFFSETFROM:+0100
TZOFFSETTO:+0200
DTSTART:19170416T020000
RRULE:FREQ=YEARLY;UNTIL=19180415T010000Z;BYMONTH=4;BYDAY=3MO
END:DAYLIGHT
BEGIN:STANDARD
TZNAME:CET
TZOFFSETFROM:+0200
TZOFFSETTO:+0100
DTSTART:19170917T030000
RRULE:FREQ=YEARLY;UNTIL=19180916T010000Z;BYMONTH=9;BYDAY=3MO
END:STANDARD
BEGIN:DAYLIGHT
TZNAME:CEST
TZOFFSETFROM:+0100
TZOFFSETTO:+0200
DTSTART:19440403T020000
RRULE:FREQ=YEARLY;UNTIL=19450402T010000Z;BYMONTH=4;BYDAY=1MO
END:DAYLIGHT
BEGIN:DAYLIGHT
TZNAME:CEMT
TZOFFSETFROM:+0200
TZOFFSETTO:+0300
DTSTART:19450524T020000
RDATE:19470511T030000
END:DAYLIGHT
BEGIN:DAYLIGHT
TZNAME:CEST
TZOFFSETFROM:+0300
TZOFFSETTO:+0200
DTSTART:19450924T030000
RDATE:19470629T030000
END:DAYLIGHT
BEGIN:STANDARD
TZNAME:CET
TZOFFSETFROM:+0100
TZOFFSETTO:+0100
DTSTART:19460101T000000
RDATE:19800101T000000
END:STANDARD
BEGIN:STANDARD
TZNAME:CET
TZOFFSETFROM:+0200
TZOFFSETTO:+0100
DTSTART:19471005T030000
RRULE:FREQ=YEARLY;UNTIL=19491002T010000Z;BYMONTH=10;BYDAY=1SU
END:STANDARD
BEGIN:STANDARD
TZNAME:CET
TZOFFSETFROM:+0200
TZOFFSETTO:+0100
DTSTART:19800928T030000
RRULE:FREQ=YEARLY;UNTIL=19950924T010000Z;BYMONTH=9;BYDAY=-1SU
END:STANDARD
BEGIN:DAYLIGHT
TZNAME:CEST
TZOFFSETFROM:+0100
TZOFFSETTO:+0200
DTSTART:19810329T020000
RRULE:FREQ=YEARLY;BYMONTH=3;BYDAY=-1SU
END:DAYLIGHT
BEGIN:STANDARD
TZNAME:CET
TZOFFSETFROM:+0200
TZOFFSETTO:+0100
DTSTART:19961027T030000
RRULE:FREQ=YEARLY;BYMONTH=10;BYDAY=-1SU
END:STANDARD
END:VTIMEZONE
BEGIN:VEVENT
DTSTAMP:20260419T144615Z
DTSTART;TZID=Europe/Berlin:20151011T100000
DTEND;TZID=Europe/Berlin:20151011T103000
SUMMARY:KL mJD St 2 MTV Wünsdorf 1910 vs 1. VfL Potsdam II (540261)
UID:6011eb8c-fb32-0850-e053-25c7a80a8bd3
STATUS:CONFIRMED
LAST-MODIFIED:20151015T212400Z
DESCRIPTION:Kreisliga männliche Jugend D St 2\nBegegnungs-Nr: 540261\nHeim: MTV Wünsdorf 1910\nGast: 1. VfL Potsdam II\nHalle: Paul-Schumann Sporthalle (3105)\nAdresse: Martin-Luther-Straße 5\, 15806 Zossen OT Wünsdorf\n
LOCATION:Paul-Schumann Sporthalle (3105): Martin-Luther-Straße 5\, 15806 Zossen OT Wünsdorf
CATEGORIES:Saison 2015/16
END:VEVENT
BEGIN:VEVENT
DTSTAMP:20260419T144615Z
DTSTART;TZID=Europe/Berlin:20151011T120000
DTEND;TZID=Europe/Berlin:20151011T123000
SUMMARY:KL mJD St 2 MTV Wünsdorf 1910 vs SV Blau-Weiß Wusterwitz (540263)
UID:6011eb8c-fc11-0850-e053-25c7a80a8bd3
STATUS:CONFIRMED
LAST-MODIFIED:20151015T212549Z
DESCRIPTION:Kreisliga männliche Jugend D St 2\nBegegnungs-Nr: 540263\nHeim: MTV Wünsdorf 1910\nGast: SV Blau-Weiß Wusterwitz\nHalle: Paul-Schumann Sporthalle (3105)\nAdresse: Martin-Luther-Straße 5\, 15806 Zossen OT Wünsdorf\n
LOCATION:Paul-Schumann Sporthalle (3105): Martin-Luther-Straße 5\, 15806 Zossen OT Wünsdorf
CATEGORIES:Saison 2015/16
END:VEVENT
BEGIN:VEVENT
DTSTAMP:20260419T144615Z
DTSTART;TZID=Europe/Berlin:20150920T110000
DTEND;TZID=Europe/Berlin:20150920T113000
SUMMARY:KL mJD St 2 MTV Wünsdorf 1910 vs HV GW Werder e.V. (540251)
UID:6011eb8c-fc14-0850-e053-25c7a80a8bd3
STATUS:CONFIRMED
LAST-MODIFIED:20151006T212907Z
DESCRIPTION:Kreisliga männliche Jugend D St 2\nBegegnungs-Nr: 540251\nHeim: MTV Wünsdorf 1910\nGast: HV GW Werder e.V.\nHalle: Albert-Baur-Halle (4900)\nAdresse: Weitzgrunder Weg 6\, 14806 Bad Belzig\n
LOCATION:Albert-Baur-Halle (4900): Weitzgrunder Weg 6\, 14806 Bad Belzig
CATEGORIES:Saison 2015/16
END:VEVENT
BEGIN:VEVENT
DTSTAMP:20260419T144615Z
DTSTART;TZID=Europe/Berlin:20151121T150000
DTEND;TZID=Europe/Berlin:20151121T153000
SUMMARY:KL mJD St 2 MTV Wünsdorf 1910 vs Märkischer BSV Belzig (540269)
UID:6011eb8e-bf5e-0850-e053-25c7a80a8bd3
STATUS:CONFIRMED
LAST-MODIFIED:20151125T125752Z
DESCRIPTION:Kreisliga männliche Jugend D St 2\nBegegnungs-Nr: 540269\nHeim: MTV Wünsdorf 1910\nGast: Märkischer BSV Belzig\nHalle: Sporthalle am Ernst-Häckel-Gymnasium (4825)\nAdresse: Kesselgrundstr. 62-68\, 14542 Werder (Havel)\n
LOCATION:Sporthalle am Ernst-Häckel-Gymnasium (4825): Kesselgrundstr. 62-68\, 14542 Werder (Havel)
CATEGORIES:Saison 2015/16
END:VEVENT
BEGIN:VEVENT
DTSTAMP:20260419T144615Z
DTSTART;TZID=Europe/Berlin:20151108T110000
DTEND;TZID=Europe/Berlin:20151108T113000
SUMMARY:KL mJD St 2 MTV Wünsdorf 1910 vs HSG RSV Teltow/ Ruhlsdorf II (540265)
UID:6011eb8d-a760-0850-e053-25c7a80a8bd3
STATUS:CONFIRMED
LAST-MODIFIED:20151110T221227Z
DESCRIPTION:Kreisliga männliche Jugend D St 2\nBegegnungs-Nr: 540265\nHeim: MTV Wünsdorf 1910\nGast: HSG RSV Teltow/ Ruhlsdorf II\nHalle: Sporthalle Fontane-Gymnasium (3001)\nAdresse: Fontaneweg 10\, 15834 Rangsdorf\n
LOCATION:Sporthalle Fontane-Gymnasium (3001): Fontaneweg 10\, 15834 Rangsdorf
CATEGORIES:Saison 2015/16
END:VEVENT
BEGIN:VEVENT
DTSTAMP:20260419T144615Z
DTSTART;TZID=Europe/Berlin:20160416T100000
DTEND;TZID=Europe/Berlin:20160416T103000
SUMMARY:KL mJD MR MTV Wünsdorf 1910 vs SV 63 Brandenburg-West (540435)
UID:6011eb8d-adbb-0850-e053-25c7a80a8bd3
STATUS:CONFIRMED
LAST-MODIFIED:20160205T225324Z
DESCRIPTION:Kreisliga männliche Jugend D Meisterrunde\nBegegnungs-Nr: 540435\nHeim: MTV Wünsdorf 1910\nGast: SV 63 Brandenburg-West\nHalle: Sporthalle der JVA (4702)\nAdresse: Max-Josef-Metzger-Straße 41\, 14772 Brandenburg\n
LOCATION:Sporthalle der JVA (4702): Max-Josef-Metzger-Straße 41\, 14772 Brandenburg
CATEGORIES:Saison 2015/16
END:VEVENT
BEGIN:VEVENT
DTSTAMP:20260419T144615Z
DTSTART;TZID=Europe/Berlin:20160227T120000
DTEND;TZID=Europe/Berlin:20160227T123000
SUMMARY:KL mJD MR MTV Wünsdorf 1910 vs HSG RSV Teltow/ Ruhlsdorf II (540414)
UID:6011eb8d-b3b2-0850-e053-25c7a80a8bd3
STATUS:CONFIRMED
LAST-MODIFIED:20160313T222601Z
DESCRIPTION:Kreisliga männliche Jugend D Meisterrunde\nBegegnungs-Nr: 540414\nHeim: MTV Wünsdorf 1910\nGast: HSG RSV Teltow/ Ruhlsdorf II\nHalle: Paul-Schumann Sporthalle (3105)\nAdresse: Martin-Luther-Straße 5\, 15806 Zossen OT Wünsdorf\n
LOCATION:Paul-Schumann Sporthalle (3105): Martin-Luther-Straße 5\, 15806 Zossen OT Wünsdorf
CATEGORIES:Saison 2015/16
END:VEVENT
BEGIN:VEVENT
DTSTAMP:20260419T144615Z
DTSTART;TZID=Europe/Berlin:20160221T143000
DTEND;TZID=Europe/Berlin:20160221T150000
SUMMARY:KL mJD MR MTV Wünsdorf 1910 vs SV Lok Rangsdorf (540409)
UID:6011eb8d-b48c-0850-e053-25c7a80a8bd3
STATUS:CONFIRMED
LAST-MODIFIED:20160221T220242Z
DESCRIPTION:Kreisliga männliche Jugend D Meisterrunde\nBegegnungs-Nr: 540409\nHeim: MTV Wünsdorf 1910\nGast: SV Lok Rangsdorf\nHalle: Stadthalle Falkensee (4600)\nAdresse: Am Gutspark 1 \, 14612 Falkensee\n
LOCATION:Stadthalle Falkensee (4600): Am Gutspark 1 \, 14612 Falkensee
CATEGORIES:Saison 2015/16
END:VEVENT
BEGIN:VEVENT
DTSTAMP:20260419T144615Z
DTSTART;TZID=Europe/Berlin:20160416T120000
DTEND;TZID=Europe/Berlin:20160416T123000
SUMMARY:KL mJD MR MTV Wünsdorf 1910 vs 1. VfL Potsdam (540436)
UID:6011eb8d-b491-0850-e053-25c7a80a8bd3
STATUS:CONFIRMED
LAST-MODIFIED:20160411T184440Z
DESCRIPTION:Kreisliga männliche Jugend D Meisterrunde\nBegegnungs-Nr: 540436\nHeim: MTV Wünsdorf 1910\nGast: 1. VfL Potsdam\nHalle: Sporthalle der JVA (4702)\nAdresse: Max-Josef-Metzger-Straße 41\, 14772 Brandenburg\n
LOCATION:Sporthalle der JVA (4702): Max-Josef-Metzger-Straße 41\, 14772 Brandenburg
CATEGORIES:Saison 2015/16
END:VEVENT
BEGIN:VEVENT
DTSTAMP:20260419T144615Z
DTSTART;TZID=Europe/Berlin:20160426T150000
DTEND;TZID=Europe/Berlin:20160426T153000
SUMMARY:KL mJD MR MTV Wünsdorf 1910 vs Märkischer BSV Belzig (540411)
UID:6011eb8d-b495-0850-e053-25c7a80a8bd3
STATUS:CONFIRMED
LAST-MODIFIED:20160426T205104Z
DESCRIPTION:Kreisliga männliche Jugend D Meisterrunde\nBegegnungs-Nr: 540411\nHeim: MTV Wünsdorf 1910\nGast: Märkischer BSV Belzig\nHalle: Paul-Schumann Sporthalle (3105)\nAdresse: Martin-Luther-Straße 5\, 15806 Zossen OT Wünsdorf\n
LOCATION:Paul-Schumann Sporthalle (3105): Martin-Luther-Straße 5\, 15806 Zossen OT Wünsdorf
CATEGORIES:Saison 2015/16
END:VEVENT
BEGIN:VEVENT
DTSTAMP:20260419T144615Z
DTSTART;TZID=Europe/Berlin:20160221T153000
DTEND;TZID=Europe/Berlin:20160221T160000
SUMMARY:KL mJD MR MTV Wünsdorf 1910 vs SSV Falkensee (540410)
UID:6011eb8d-b56e-0850-e053-25c7a80a8bd3
STATUS:CONFIRMED
LAST-MODIFIED:20160221T220349Z
DESCRIPTION:Kreisliga männliche Jugend D Meisterrunde\nBegegnungs-Nr: 540410\nHeim: MTV Wünsdorf 1910\nGast: SSV Falkensee\nHalle: Stadthalle Falkensee (4600)\nAdresse: Am Gutspark 1 \, 14612 Falkensee\n
LOCATION:Stadthalle Falkensee (4600): Am Gutspark 1 \, 14612 Falkensee
CATEGORIES:Saison 2015/16
END:VEVENT
BEGIN:VEVENT
DTSTAMP:20260419T144615Z
DTSTART;TZID=Europe/Berlin:20151108T100000
DTEND;TZID=Europe/Berlin:20151108T103000
SUMMARY:KL mJD St 2 MTV Wünsdorf 1910 vs SV Lok Rangsdorf (540264)
UID:6011eb8d-7244-0850-e053-25c7a80a8bd3
STATUS:CONFIRMED
LAST-MODIFIED:20151110T221020Z
DESCRIPTION:Kreisliga männliche Jugend D St 2\nBegegnungs-Nr: 540264\nHeim: MTV Wünsdorf 1910\nGast: SV Lok Rangsdorf\nHalle: Sporthalle Fontane-Gymnasium (3001)\nAdresse: Fontaneweg 10\, 15834 Rangsdorf\n
LOCATION:Sporthalle Fontane-Gymnasium (3001): Fontaneweg 10\, 15834 Rangsdorf
CATEGORIES:Saison 2015/16
END:VEVENT
BEGIN:VEVENT
DTSTAMP:20260419T144615Z
DTSTART;TZID=Europe/Berlin:20151213T130000
DTEND;TZID=Europe/Berlin:20151213T133000
SUMMARY:KL mJD St 2 HSG RSV Teltow/ Ruhlsdorf II vs MTV Wünsdorf 1910 (540283)
UID:6011eb8e-c915-0850-e053-25c7a80a8bd3
STATUS:CONFIRMED
LAST-MODIFIED:20160112T204204Z
DESCRIPTION:Kreisliga männliche Jugend D St 2\nBegegnungs-Nr: 540283\nHeim: HSG RSV Teltow/ Ruhlsdorf II\nGast: MTV Wünsdorf 1910\nHalle: Paul-Schumann Sporthalle (3105)\nAdresse: Martin-Luther-Straße 5\, 15806 Zossen OT Wünsdorf\n
LOCATION:Paul-Schumann Sporthalle (3105): Martin-Luther-Straße 5\, 15806 Zossen OT Wünsdorf
CATEGORIES:Saison 2015/16
END:VEVENT
BEGIN:VEVENT
DTSTAMP:20260419T144615Z
DTSTART;TZID=Europe/Berlin:20150920T120000
DTEND;TZID=Europe/Berlin:20150920T123000
SUMMARY:KL mJD St 2 Märkischer BSV Belzig vs MTV Wünsdorf 1910 (540252)
UID:6011eb8e-c9e0-0850-e053-25c7a80a8bd3
STATUS:CONFIRMED
LAST-MODIFIED:20151006T213016Z
DESCRIPTION:Kreisliga männliche Jugend D St 2\nBegegnungs-Nr: 540252\nHeim: Märkischer BSV Belzig\nGast: MTV Wünsdorf 1910\nHalle: Albert-Baur-Halle (4900)\nAdresse: Weitzgrunder Weg 6\, 14806 Bad Belzig\n
LOCATION:Albert-Baur-Halle (4900): Weitzgrunder Weg 6\, 14806 Bad Belzig
CATEGORIES:Saison 2015/16
END:VEVENT
BEGIN:VEVENT
DTSTAMP:20260419T144615Z
DTSTART;TZID=Europe/Berlin:20160305T160000
DTEND;TZID=Europe/Berlin:20160305T163000
SUMMARY:KL mJD MR SV Lok Rangsdorf vs MTV Wünsdorf 1910 (540420)
UID:6011eb8e-e8d0-0850-e053-25c7a80a8bd3
STATUS:CONFIRMED
LAST-MODIFIED:20160313T223126Z
DESCRIPTION:Kreisliga männliche Jugend D Meisterrunde\nBegegnungs-Nr: 540420\nHeim: SV Lok Rangsdorf\nGast: MTV Wünsdorf 1910\nHalle: Stadthalle Falkensee (4600)\nAdresse: Am Gutspark 1 \, 14612 Falkensee\n
LOCATION:Stadthalle Falkensee (4600): Am Gutspark 1 \, 14612 Falkensee
CATEGORIES:Saison 2015/16
END:VEVENT
BEGIN:VEVENT
DTSTAMP:20260419T144615Z
DTSTART;TZID=Europe/Berlin:20151206T110000
DTEND;TZID=Europe/Berlin:20151206T113000
SUMMARY:KL mJD St 2 SV Blau-Weiß Wusterwitz vs MTV Wünsdorf 1910 (540279)
UID:6011eb8c-fb2d-0850-e053-25c7a80a8bd3
STATUS:CONFIRMED
LAST-MODIFIED:20151208T220056Z
DESCRIPTION:Kreisliga männliche Jugend D St 2\nBegegnungs-Nr: 540279\nHeim: SV Blau-Weiß Wusterwitz\nGast: MTV Wünsdorf 1910\nHalle: Sporthalle Kirchsteigfeld (4810)\nAdresse: Lise-Meitner-Strasse 4-6\, 14480 Potsdam\n
LOCATION:Sporthalle Kirchsteigfeld (4810): Lise-Meitner-Strasse 4-6\, 14480 Potsdam
CATEGORIES:Saison 2015/16
END:VEVENT
BEGIN:VEVENT
DTSTAMP:20260419T144615Z
DTSTART;TZID=Europe/Berlin:20151213T110000
DTEND;TZID=Europe/Berlin:20151213T113000
SUMMARY:KL mJD St 2 SV Lok Rangsdorf vs MTV Wünsdorf 1910 (540281)
UID:6011eb8c-fc12-0850-e053-25c7a80a8bd3
STATUS:CONFIRMED
LAST-MODIFIED:20160112T204245Z
DESCRIPTION:Kreisliga männliche Jugend D St 2\nBegegnungs-Nr: 540281\nHeim: SV Lok Rangsdorf\nGast: MTV Wünsdorf 1910\nHalle: Paul-Schumann Sporthalle (3105)\nAdresse: Martin-Luther-Straße 5\, 15806 Zossen OT Wünsdorf\n
LOCATION:Paul-Schumann Sporthalle (3105): Martin-Luther-Straße 5\, 15806 Zossen OT Wünsdorf
CATEGORIES:Saison 2015/16
END:VEVENT
BEGIN:VEVENT
DTSTAMP:20260419T144615Z
DTSTART;TZID=Europe/Berlin:20151206T100000
DTEND;TZID=Europe/Berlin:20151206T103000
SUMMARY:KL mJD St 2 1. VfL Potsdam II vs MTV Wünsdorf 1910 (540278)
UID:6011eb8e-bb42-0850-e053-25c7a80a8bd3
STATUS:CONFIRMED
LAST-MODIFIED:20151208T220739Z
DESCRIPTION:Kreisliga männliche Jugend D St 2\nBegegnungs-Nr: 540278\nHeim: 1. VfL Potsdam II\nGast: MTV Wünsdorf 1910\nHalle: Sporthalle Kirchsteigfeld (4810)\nAdresse: Lise-Meitner-Strasse 4-6\, 14480 Potsdam\n
LOCATION:Sporthalle Kirchsteigfeld (4810): Lise-Meitner-Strasse 4-6\, 14480 Potsdam
CATEGORIES:Saison 2015/16
END:VEVENT
BEGIN:VEVENT
DTSTAMP:20260419T144615Z
DTSTART;TZID=Europe/Berlin:20151121T140000
DTEND;TZID=Europe/Berlin:20151121T143000
SUMMARY:KL mJD St 2 HV GW Werder e.V. vs MTV Wünsdorf 1910 (540267)
UID:6011eb8d-985c-0850-e053-25c7a80a8bd3
STATUS:CONFIRMED
LAST-MODIFIED:20151125T130244Z
DESCRIPTION:Kreisliga männliche Jugend D St 2\nBegegnungs-Nr: 540267\nHeim: HV GW Werder e.V.\nGast: MTV Wünsdorf 1910\nHalle: Sporthalle am Ernst-Häckel-Gymnasium (4825)\nAdresse: Kesselgrundstr. 62-68\, 14542 Werder (Havel)\n
LOCATION:Sporthalle am Ernst-Häckel-Gymnasium (4825): Kesselgrundstr. 62-68\, 14542 Werder (Havel)
CATEGORIES:Saison 2015/16
END:VEVENT
BEGIN:VEVENT
DTSTAMP:20260419T144615Z
DTSTART;TZID=Europe/Berlin:20160410T120000
DTEND;TZID=Europe/Berlin:20160410T123000
SUMMARY:KL mJD MR HSG RSV Teltow/ Ruhlsdorf II vs MTV Wünsdorf 1910 (540433)
UID:6011eb8d-b3a7-0850-e053-25c7a80a8bd3
STATUS:CONFIRMED
LAST-MODIFIED:20160205T225324Z
DESCRIPTION:Kreisliga männliche Jugend D Meisterrunde\nBegegnungs-Nr: 540433\nHeim: HSG RSV Teltow/ Ruhlsdorf II\nGast: MTV Wünsdorf 1910\nHalle: Erwin-Benke-Sporthalle (3000)\nAdresse: Fichtestraße\, 15834 Rangsdorf\n
LOCATION:Erwin-Benke-Sporthalle (3000): Fichtestraße\, 15834 Rangsdorf
CATEGORIES:Saison 2015/16
END:VEVENT
BEGIN:VEVENT
DTSTAMP:20260419T144615Z
DTSTART;TZID=Europe/Berlin:20160214T160000
DTEND;TZID=Europe/Berlin:20160214T163000
SUMMARY:KL mJD MR 1. VfL Potsdam vs MTV Wünsdorf 1910 (540403)
UID:6011eb8d-b3b0-0850-e053-25c7a80a8bd3
STATUS:CONFIRMED
LAST-MODIFIED:20160221T215735Z
DESCRIPTION:Kreisliga männliche Jugend D Meisterrunde\nBegegnungs-Nr: 540403\nHeim: 1. VfL Potsdam\nGast: MTV Wünsdorf 1910\nHalle: Paul-Schumann Sporthalle (3105)\nAdresse: Martin-Luther-Straße 5\, 15806 Zossen OT Wünsdorf\n
LOCATION:Paul-Schumann Sporthalle (3105): Martin-Luther-Straße 5\, 15806 Zossen OT Wünsdorf
CATEGORIES:Saison 2015/16
END:VEVENT
BEGIN:VEVENT
DTSTAMP:20260419T144615Z
DTSTART;TZID=Europe/Berlin:20160410T110000
DTEND;TZID=Europe/Berlin:20160410T113000
SUMMARY:KL mJD MR Märkischer BSV Belzig vs MTV Wünsdorf 1910 (540432)
UID:6011eb8d-b3b3-0850-e053-25c7a80a8bd3
STATUS:CONFIRMED
LAST-MODIFIED:20160205T225324Z
DESCRIPTION:Kreisliga männliche Jugend D Meisterrunde\nBegegnungs-Nr: 540432\nHeim: Märkischer BSV Belzig\nGast: MTV Wünsdorf 1910\nHalle: Erwin-Benke-Sporthalle (3000)\nAdresse: Fichtestraße\, 15834 Rangsdorf\n
LOCATION:Erwin-Benke-Sporthalle (3000): Fichtestraße\, 15834 Rangsdorf
CATEGORIES:Saison 2015/16
END:VEVENT
BEGIN:VEVENT
DTSTAMP:20260419T144615Z
DTSTART;TZID=Europe/Berlin:20160214T140000
DTEND;TZID=Europe/Berlin:20160214T143000
SUMMARY:KL mJD MR SV 63 Brandenburg-West vs MTV Wünsdorf 1910 (540402)
UID:6011eb8d-b3b8-0850-e053-25c7a80a8bd3
STATUS:CONFIRMED
LAST-MODIFIED:20160221T220013Z
DESCRIPTION:Kreisliga männliche Jugend D Meisterrunde\nBegegnungs-Nr: 540402\nHeim: SV 63 Brandenburg-West\nGast: MTV Wünsdorf 1910\nHalle: Paul-Schumann Sporthalle (3105)\nAdresse: Martin-Luther-Straße 5\, 15806 Zossen OT Wünsdorf\n
LOCATION:Paul-Schumann Sporthalle (3105): Martin-Luther-Straße 5\, 15806 Zossen OT Wünsdorf
CATEGORIES:Saison 2015/16
END:VEVENT
BEGIN:VEVENT
DTSTAMP:20260419T144615Z
DTSTART;TZID=Europe/Berlin:20160305T170000
DTEND;TZID=Europe/Berlin:20160305T173000
SUMMARY:KL mJD MR SSV Falkensee vs MTV Wünsdorf 1910 (540421)
UID:6011eb8d-b48d-0850-e053-25c7a80a8bd3
STATUS:CONFIRMED
LAST-MODIFIED:20160313T223254Z
DESCRIPTION:Kreisliga männliche Jugend D Meisterrunde\nBegegnungs-Nr: 540421\nHeim: SSV Falkensee\nGast: MTV Wünsdorf 1910\nHalle: Stadthalle Falkensee (4600)\nAdresse: Am Gutspark 1 \, 14612 Falkensee\n
LOCATION:Stadthalle Falkensee (4600): Am Gutspark 1 \, 14612 Falkensee
CATEGORIES:Saison 2015/16
END:VEVENT
END:VCALENDAR
