BEGIN:VCALENDAR
PRODID:-//nuDatenautomaten//framework iCal4j //DE
VERSION:2.0
CALSCALE:GREGORIAN
BEGIN:VTIMEZONE
TZID:Europe/Berlin
LAST-MODIFIED:20260306T231828Z
TZURL:https://www.tzurl.org/zoneinfo/Europe/Berlin
X-LIC-LOCATION:Europe/Berlin
X-PROLEPTIC-TZNAME:LMT
BEGIN:STANDARD
TZNAME:CET
TZOFFSETFROM:+005328
TZOFFSETTO:+0100
DTSTART:18930401T000000
END:STANDARD
BEGIN:DAYLIGHT
TZNAME:CEST
TZOFFSETFROM:+0100
TZOFFSETTO:+0200
DTSTART:19160430T230000
RDATE:19400401T020000
RDATE:19430329T020000
RDATE:19460414T020000
RDATE:19470406T030000
RDATE:19480418T020000
RDATE:19490410T020000
RDATE:19800406T020000
END:DAYLIGHT
BEGIN:STANDARD
TZNAME:CET
TZOFFSETFROM:+0200
TZOFFSETTO:+0100
DTSTART:19161001T010000
RDATE:19421102T030000
RDATE:19431004T030000
RDATE:19441002T030000
RDATE:19451118T030000
RDATE:19461007T030000
END:STANDARD
BEGIN:DAYLIGHT
TZNAME:CEST
TZOFFSETFROM:+0100
TZOFFSETTO:+0200
DTSTART:19170416T020000
RRULE:FREQ=YEARLY;UNTIL=19180415T010000Z;BYMONTH=4;BYDAY=3MO
END:DAYLIGHT
BEGIN:STANDARD
TZNAME:CET
TZOFFSETFROM:+0200
TZOFFSETTO:+0100
DTSTART:19170917T030000
RRULE:FREQ=YEARLY;UNTIL=19180916T010000Z;BYMONTH=9;BYDAY=3MO
END:STANDARD
BEGIN:DAYLIGHT
TZNAME:CEST
TZOFFSETFROM:+0100
TZOFFSETTO:+0200
DTSTART:19440403T020000
RRULE:FREQ=YEARLY;UNTIL=19450402T010000Z;BYMONTH=4;BYDAY=1MO
END:DAYLIGHT
BEGIN:DAYLIGHT
TZNAME:CEMT
TZOFFSETFROM:+0200
TZOFFSETTO:+0300
DTSTART:19450524T020000
RDATE:19470511T030000
END:DAYLIGHT
BEGIN:DAYLIGHT
TZNAME:CEST
TZOFFSETFROM:+0300
TZOFFSETTO:+0200
DTSTART:19450924T030000
RDATE:19470629T030000
END:DAYLIGHT
BEGIN:STANDARD
TZNAME:CET
TZOFFSETFROM:+0100
TZOFFSETTO:+0100
DTSTART:19460101T000000
RDATE:19800101T000000
END:STANDARD
BEGIN:STANDARD
TZNAME:CET
TZOFFSETFROM:+0200
TZOFFSETTO:+0100
DTSTART:19471005T030000
RRULE:FREQ=YEARLY;UNTIL=19491002T010000Z;BYMONTH=10;BYDAY=1SU
END:STANDARD
BEGIN:STANDARD
TZNAME:CET
TZOFFSETFROM:+0200
TZOFFSETTO:+0100
DTSTART:19800928T030000
RRULE:FREQ=YEARLY;UNTIL=19950924T010000Z;BYMONTH=9;BYDAY=-1SU
END:STANDARD
BEGIN:DAYLIGHT
TZNAME:CEST
TZOFFSETFROM:+0100
TZOFFSETTO:+0200
DTSTART:19810329T020000
RRULE:FREQ=YEARLY;BYMONTH=3;BYDAY=-1SU
END:DAYLIGHT
BEGIN:STANDARD
TZNAME:CET
TZOFFSETFROM:+0200
TZOFFSETTO:+0100
DTSTART:19961027T030000
RRULE:FREQ=YEARLY;BYMONTH=10;BYDAY=-1SU
END:STANDARD
END:VTIMEZONE
BEGIN:VEVENT
DTSTAMP:20260419T210153Z
DTSTART;TZID=Europe/Berlin:20250126T133000
DTEND;TZID=Europe/Berlin:20250126T143000
SUMMARY:Regionsliga männliche Jugend D TV Wahlscheid vs SG Engelskirchen/Loope (342041)
UID:7aabd951-f2f0-44b6-b3e9-ca7b05d26cc4
STATUS:CONFIRMED
LAST-MODIFIED:20250126T183612Z
DESCRIPTION:Regionsliga männliche Jugend D\nBegegnungs-Nr: 342041\nHeim: TV Wahlscheid\nGast: SG Engelskirchen/Loope\nHalle: Jabachhalle (09025)\nAdresse: Donrather Dreieck 1\, 53797 Lohmar\n
LOCATION:Jabachhalle (09025): Donrather Dreieck 1\, 53797 Lohmar
CATEGORIES:Saison 2024/25
END:VEVENT
BEGIN:VEVENT
DTSTAMP:20260419T210153Z
DTSTART;TZID=Europe/Berlin:20250202T150000
DTEND;TZID=Europe/Berlin:20250202T160000
SUMMARY:Regionsliga männliche Jugend D TV Wahlscheid vs SV Frielingsdorf II (342033)
UID:a7a64c4b-c0fc-420e-b034-320e3fe9399c
STATUS:CONFIRMED
LAST-MODIFIED:20250202T194011Z
DESCRIPTION:Regionsliga männliche Jugend D\nBegegnungs-Nr: 342033\nHeim: TV Wahlscheid\nGast: SV Frielingsdorf II\nHalle: Forum Lohmar-Wahlscheid (09023)\nAdresse: Wahlscheider Str. 56\, 53797 Lohmar-Wahlscheid\n
LOCATION:Forum Lohmar-Wahlscheid (09023): Wahlscheider Str. 56\, 53797 Lohmar-Wahlscheid
CATEGORIES:Saison 2024/25
END:VEVENT
BEGIN:VEVENT
DTSTAMP:20260419T210153Z
DTSTART;TZID=Europe/Berlin:20241201T150000
DTEND;TZID=Europe/Berlin:20241201T160000
SUMMARY:Regionsliga männliche Jugend D TV Wahlscheid vs CVJM Oberwiehl II (342027)
UID:a2018431-2a48-4fb9-87dd-163ddea16c97
STATUS:CONFIRMED
LAST-MODIFIED:20241201T195714Z
DESCRIPTION:Regionsliga männliche Jugend D\nBegegnungs-Nr: 342027\nHeim: TV Wahlscheid\nGast: CVJM Oberwiehl II\nHalle: Jabachhalle (09025)\nAdresse: Donrather Dreieck 1\, 53797 Lohmar\n
LOCATION:Jabachhalle (09025): Donrather Dreieck 1\, 53797 Lohmar
CATEGORIES:Saison 2024/25
END:VEVENT
BEGIN:VEVENT
DTSTAMP:20260419T210153Z
DTSTART;TZID=Europe/Berlin:20240921T163000
DTEND;TZID=Europe/Berlin:20240921T173000
SUMMARY:Regionsliga männliche Jugend D TV Wahlscheid vs HC Gelpe/Strombach II (342003)
UID:fa2ec485-660f-4c95-924e-9b0c81a8ae58
STATUS:CONFIRMED
LAST-MODIFIED:20240922T173957Z
DESCRIPTION:Regionsliga männliche Jugend D\nBegegnungs-Nr: 342003\nHeim: TV Wahlscheid\nGast: HC Gelpe/Strombach II\nHalle: Forum Lohmar-Wahlscheid (09023)\nAdresse: Wahlscheider Str. 56\, 53797 Lohmar-Wahlscheid\n
LOCATION:Forum Lohmar-Wahlscheid (09023): Wahlscheider Str. 56\, 53797 Lohmar-Wahlscheid
CATEGORIES:Saison 2024/25
END:VEVENT
BEGIN:VEVENT
DTSTAMP:20260419T210153Z
DTSTART;TZID=Europe/Berlin:20250216T140000
DTEND;TZID=Europe/Berlin:20250216T150000
SUMMARY:Regionsliga männliche Jugend D TV Wahlscheid vs SSV Overath (342049)
UID:fd976fec-c2a3-48ec-8f44-01c657b2eab6
STATUS:CONFIRMED
LAST-MODIFIED:20250217T092013Z
DESCRIPTION:Regionsliga männliche Jugend D\nBegegnungs-Nr: 342049\nHeim: TV Wahlscheid\nGast: SSV Overath\nHalle: Jabachhalle (09025)\nAdresse: Donrather Dreieck 1\, 53797 Lohmar\n
LOCATION:Jabachhalle (09025): Donrather Dreieck 1\, 53797 Lohmar
CATEGORIES:Saison 2024/25
END:VEVENT
BEGIN:VEVENT
DTSTAMP:20260419T210153Z
DTSTART;TZID=Europe/Berlin:20241123T163000
DTEND;TZID=Europe/Berlin:20241123T173000
SUMMARY:Regionsliga männliche Jugend D SSV Overath vs TV Wahlscheid (342021)
UID:4d468ac0-5c57-4a0d-b5c5-4ea5129eab08
STATUS:CONFIRMED
LAST-MODIFIED:20241124T190120Z
DESCRIPTION:Regionsliga männliche Jugend D\nBegegnungs-Nr: 342021\nHeim: SSV Overath\nGast: TV Wahlscheid\nHalle: Schulzentrum Cyriax (09028)\nAdresse: Cyriax\, 51491 Overath\n
LOCATION:Schulzentrum Cyriax (09028): Cyriax\, 51491 Overath
CATEGORIES:Saison 2024/25
END:VEVENT
BEGIN:VEVENT
DTSTAMP:20260419T210153Z
DTSTART;TZID=Europe/Berlin:20241103T130000
DTEND;TZID=Europe/Berlin:20241103T140000
SUMMARY:Regionsliga männliche Jugend D SG Engelskirchen/Loope vs TV Wahlscheid (342013)
UID:3c88eba3-56b0-49f9-9aab-d7edb544d288
STATUS:CONFIRMED
LAST-MODIFIED:20241103T215014Z
DESCRIPTION:Regionsliga männliche Jugend D\nBegegnungs-Nr: 342013\nHeim: SG Engelskirchen/Loope\nGast: TV Wahlscheid\nHalle: Walbachhalle (09017)\nAdresse: Walbach\, 51766 Engelskirchen-Ründeroth\n
LOCATION:Walbachhalle (09017): Walbach\, 51766 Engelskirchen-Ründeroth
CATEGORIES:Saison 2024/25
END:VEVENT
BEGIN:VEVENT
DTSTAMP:20260419T210153Z
DTSTART;TZID=Europe/Berlin:20240928T160000
DTEND;TZID=Europe/Berlin:20240928T170000
SUMMARY:Regionsliga männliche Jugend D SV Frielingsdorf II vs TV Wahlscheid (342005)
UID:250be5ba-4f69-4dd3-9cb4-65cc65985e49
STATUS:CONFIRMED
LAST-MODIFIED:20240929T204422Z
DESCRIPTION:Regionsliga männliche Jugend D\nBegegnungs-Nr: 342005\nHeim: SV Frielingsdorf II\nGast: TV Wahlscheid\nHalle: Vossbrucher Halle (09022)\nAdresse: Carola-Lob-Weg 1\, 51789 Lindlar\n
LOCATION:Vossbrucher Halle (09022): Carola-Lob-Weg 1\, 51789 Lindlar
CATEGORIES:Saison 2024/25
END:VEVENT
BEGIN:VEVENT
DTSTAMP:20260419T210153Z
DTSTART;TZID=Europe/Berlin:20250315T150000
DTEND;TZID=Europe/Berlin:20250315T160000
SUMMARY:Regionsliga männliche Jugend D CVJM Oberwiehl II vs TV Wahlscheid (342053)
UID:4f047835-4732-4983-9acd-b75f5a028ad3
STATUS:CONFIRMED
LAST-MODIFIED:20250317T060314Z
DESCRIPTION:Regionsliga männliche Jugend D\nBegegnungs-Nr: 342053\nHeim: CVJM Oberwiehl II\nGast: TV Wahlscheid\nHalle: SpH Dietrich Bonhoeffer-Gymnasium (09020)\nAdresse: Hauptstr. 81\, 51674 Wiehl\n
LOCATION:SpH Dietrich Bonhoeffer-Gymnasium (09020): Hauptstr. 81\, 51674 Wiehl
CATEGORIES:Saison 2024/25
END:VEVENT
BEGIN:VEVENT
DTSTAMP:20260419T210153Z
DTSTART;TZID=Europe/Berlin:20241207T160000
DTEND;TZID=Europe/Berlin:20241207T170000
SUMMARY:Regionsliga männliche Jugend D HC Gelpe/Strombach II vs TV Wahlscheid (342029)
UID:e759b9ca-f929-42f4-bce7-ab4a2b4e1a77
STATUS:CONFIRMED
LAST-MODIFIED:20241208T204559Z
DESCRIPTION:Regionsliga männliche Jugend D\nBegegnungs-Nr: 342029\nHeim: HC Gelpe/Strombach II\nGast: TV Wahlscheid\nHalle: SpH Reininghauser Str. (09007)\nAdresse: Reininghauser Str. 34\, 51643 Gummersbach\n
LOCATION:SpH Reininghauser Str. (09007): Reininghauser Str. 34\, 51643 Gummersbach
CATEGORIES:Saison 2024/25
END:VEVENT
END:VCALENDAR
