BEGIN:VCALENDAR
PRODID:-//nuDatenautomaten//framework iCal4j //DE
VERSION:2.0
CALSCALE:GREGORIAN
BEGIN:VTIMEZONE
TZID:Europe/Berlin
LAST-MODIFIED:20260306T231828Z
TZURL:https://www.tzurl.org/zoneinfo/Europe/Berlin
X-LIC-LOCATION:Europe/Berlin
X-PROLEPTIC-TZNAME:LMT
BEGIN:STANDARD
TZNAME:CET
TZOFFSETFROM:+005328
TZOFFSETTO:+0100
DTSTART:18930401T000000
END:STANDARD
BEGIN:DAYLIGHT
TZNAME:CEST
TZOFFSETFROM:+0100
TZOFFSETTO:+0200
DTSTART:19160430T230000
RDATE:19400401T020000
RDATE:19430329T020000
RDATE:19460414T020000
RDATE:19470406T030000
RDATE:19480418T020000
RDATE:19490410T020000
RDATE:19800406T020000
END:DAYLIGHT
BEGIN:STANDARD
TZNAME:CET
TZOFFSETFROM:+0200
TZOFFSETTO:+0100
DTSTART:19161001T010000
RDATE:19421102T030000
RDATE:19431004T030000
RDATE:19441002T030000
RDATE:19451118T030000
RDATE:19461007T030000
END:STANDARD
BEGIN:DAYLIGHT
TZNAME:CEST
TZOFFSETFROM:+0100
TZOFFSETTO:+0200
DTSTART:19170416T020000
RRULE:FREQ=YEARLY;UNTIL=19180415T010000Z;BYMONTH=4;BYDAY=3MO
END:DAYLIGHT
BEGIN:STANDARD
TZNAME:CET
TZOFFSETFROM:+0200
TZOFFSETTO:+0100
DTSTART:19170917T030000
RRULE:FREQ=YEARLY;UNTIL=19180916T010000Z;BYMONTH=9;BYDAY=3MO
END:STANDARD
BEGIN:DAYLIGHT
TZNAME:CEST
TZOFFSETFROM:+0100
TZOFFSETTO:+0200
DTSTART:19440403T020000
RRULE:FREQ=YEARLY;UNTIL=19450402T010000Z;BYMONTH=4;BYDAY=1MO
END:DAYLIGHT
BEGIN:DAYLIGHT
TZNAME:CEMT
TZOFFSETFROM:+0200
TZOFFSETTO:+0300
DTSTART:19450524T020000
RDATE:19470511T030000
END:DAYLIGHT
BEGIN:DAYLIGHT
TZNAME:CEST
TZOFFSETFROM:+0300
TZOFFSETTO:+0200
DTSTART:19450924T030000
RDATE:19470629T030000
END:DAYLIGHT
BEGIN:STANDARD
TZNAME:CET
TZOFFSETFROM:+0100
TZOFFSETTO:+0100
DTSTART:19460101T000000
RDATE:19800101T000000
END:STANDARD
BEGIN:STANDARD
TZNAME:CET
TZOFFSETFROM:+0200
TZOFFSETTO:+0100
DTSTART:19471005T030000
RRULE:FREQ=YEARLY;UNTIL=19491002T010000Z;BYMONTH=10;BYDAY=1SU
END:STANDARD
BEGIN:STANDARD
TZNAME:CET
TZOFFSETFROM:+0200
TZOFFSETTO:+0100
DTSTART:19800928T030000
RRULE:FREQ=YEARLY;UNTIL=19950924T010000Z;BYMONTH=9;BYDAY=-1SU
END:STANDARD
BEGIN:DAYLIGHT
TZNAME:CEST
TZOFFSETFROM:+0100
TZOFFSETTO:+0200
DTSTART:19810329T020000
RRULE:FREQ=YEARLY;BYMONTH=3;BYDAY=-1SU
END:DAYLIGHT
BEGIN:STANDARD
TZNAME:CET
TZOFFSETFROM:+0200
TZOFFSETTO:+0100
DTSTART:19961027T030000
RRULE:FREQ=YEARLY;BYMONTH=10;BYDAY=-1SU
END:STANDARD
END:VTIMEZONE
BEGIN:VEVENT
DTSTAMP:20260420T040937Z
DTSTART;TZID=Europe/Berlin:20240921T140000
DTEND;TZID=Europe/Berlin:20240921T150000
SUMMARY:Regionsoberliga männliche Jugend C Vorrunde Gr. 4 Wermelskirchener TV vs SG Langenfeld (6)
UID:fc11c998-5964-4111-bd12-76b0f693245c
STATUS:CONFIRMED
LAST-MODIFIED:20240922T132702Z
DESCRIPTION:Regionsoberliga männliche Jugend C Vorrunde Gr. 4\nBegegnungs-Nr: 6\nHeim: Wermelskirchener TV\nGast: SG Langenfeld\nHalle: Dabringhausen.Mehrzweck-Halle (01024)\nAdresse: An der Mehrzweckhalle 1\, 42929 Wermelskirchen\n
LOCATION:Dabringhausen.Mehrzweck-Halle (01024): An der Mehrzweckhalle 1\, 42929 Wermelskirchen
CATEGORIES:Saison 2024/25
END:VEVENT
BEGIN:VEVENT
DTSTAMP:20260420T040937Z
DTSTART;TZID=Europe/Berlin:20240928T171500
DTEND;TZID=Europe/Berlin:20240928T181500
SUMMARY:Regionsoberliga männliche Jugend C Vorrunde Gr. 4 Wermelskirchener TV vs TuSEM Essen II (10)
UID:ac498ab0-073d-4aa0-9f56-4e0e716340b0
STATUS:CONFIRMED
LAST-MODIFIED:20241004T150339Z
DESCRIPTION:Regionsoberliga männliche Jugend C Vorrunde Gr. 4\nBegegnungs-Nr: 10\nHeim: Wermelskirchener TV\nGast: TuSEM Essen II\nHalle: Wermelskirchen.Schwanen (01019)\nAdresse: Stettiner Str. / Am Schwanen\, 42929 Wermelskirchen\n
LOCATION:Wermelskirchen.Schwanen (01019): Stettiner Str. / Am Schwanen\, 42929 Wermelskirchen
CATEGORIES:Saison 2024/25
END:VEVENT
BEGIN:VEVENT
DTSTAMP:20260420T040937Z
DTSTART;TZID=Europe/Berlin:20241103T103000
DTEND;TZID=Europe/Berlin:20241103T113000
SUMMARY:Regionsoberliga männliche Jugend C Vorrunde Gr. 4 Wermelskirchener TV vs NHC/HSG (18)
UID:431e32a4-9088-4ab4-a29e-22e849d10145
STATUS:CONFIRMED
LAST-MODIFIED:20241105T161039Z
DESCRIPTION:Regionsoberliga männliche Jugend C Vorrunde Gr. 4\nBegegnungs-Nr: 18\nHeim: Wermelskirchener TV\nGast: NHC/HSG\nHalle: Wermelskirchen.Schwanen (01019)\nAdresse: Stettiner Str. / Am Schwanen\, 42929 Wermelskirchen\n
LOCATION:Wermelskirchen.Schwanen (01019): Stettiner Str. / Am Schwanen\, 42929 Wermelskirchen
CATEGORIES:Saison 2024/25
END:VEVENT
BEGIN:VEVENT
DTSTAMP:20260420T040937Z
DTSTART;TZID=Europe/Berlin:20241117T160000
DTEND;TZID=Europe/Berlin:20241117T170000
SUMMARY:Regionsoberliga männliche Jugend C Vorrunde Gr. 4 Wermelskirchener TV vs HSG Velbert/Heiligenhaus (26)
UID:b14756c7-5f60-417b-b435-1bb515ca8270
STATUS:CONFIRMED
LAST-MODIFIED:20241119T160721Z
DESCRIPTION:Regionsoberliga männliche Jugend C Vorrunde Gr. 4\nBegegnungs-Nr: 26\nHeim: Wermelskirchener TV\nGast: HSG Velbert/Heiligenhaus\nHalle: Wermelskirchen.Schwanen (01019)\nAdresse: Stettiner Str. / Am Schwanen\, 42929 Wermelskirchen\n
LOCATION:Wermelskirchen.Schwanen (01019): Stettiner Str. / Am Schwanen\, 42929 Wermelskirchen
CATEGORIES:Saison 2024/25
END:VEVENT
BEGIN:VEVENT
DTSTAMP:20260420T040937Z
DTSTART;TZID=Europe/Berlin:20250406T140000
DTEND;TZID=Europe/Berlin:20250406T150000
SUMMARY:Regionsliga männliche Jugend C Gr. 2 Wermelskirchener TV vs MTG Horst Essen II (53)
UID:ef41681a-05bf-4d5e-b6af-e1ba63cdd742
STATUS:CONFIRMED
DESCRIPTION:Regionsliga männliche Jugend C Gr. 2\nBegegnungs-Nr: 53\nHeim: Wermelskirchener TV\nGast: MTG Horst Essen II\nHalle: Wermelskirchen.Gymnasium (01020)\nAdresse: Stockhauser Strasse 15\, 42929 Wermelskirchen\n
LOCATION:Wermelskirchen.Gymnasium (01020): Stockhauser Strasse 15\, 42929 Wermelskirchen
CATEGORIES:Saison 2024/25
END:VEVENT
BEGIN:VEVENT
DTSTAMP:20260420T040937Z
DTSTART;TZID=Europe/Berlin:20241208T101500
DTEND;TZID=Europe/Berlin:20241208T111500
SUMMARY:Regionsliga männliche Jugend C Gr. 2 Wermelskirchener TV vs SSG Wuppertal/HSV Wuppertal II (4)
UID:b13ca1d3-c9c4-4aa7-8b65-6671e4fddddb
STATUS:CONFIRMED
LAST-MODIFIED:20241208T174742Z
DESCRIPTION:Regionsliga männliche Jugend C Gr. 2\nBegegnungs-Nr: 4\nHeim: Wermelskirchener TV\nGast: SSG Wuppertal/HSV Wuppertal II\nHalle: Wermelskirchen.Schwanen (01019)\nAdresse: Stettiner Str. / Am Schwanen\, 42929 Wermelskirchen\n
LOCATION:Wermelskirchen.Schwanen (01019): Stettiner Str. / Am Schwanen\, 42929 Wermelskirchen
CATEGORIES:Saison 2024/25
END:VEVENT
BEGIN:VEVENT
DTSTAMP:20260420T040937Z
DTSTART;TZID=Europe/Berlin:20250316T101500
DTEND;TZID=Europe/Berlin:20250316T111500
SUMMARY:Regionsliga männliche Jugend C Gr. 2 Wermelskirchener TV vs TSV Aufderhöhe (43)
UID:5062f777-c14e-4dd5-bada-bc6058f358d8
STATUS:CONFIRMED
LAST-MODIFIED:20250326T202234Z
DESCRIPTION:Regionsliga männliche Jugend C Gr. 2\nBegegnungs-Nr: 43\nHeim: Wermelskirchener TV\nGast: TSV Aufderhöhe\nHalle: Wermelskirchen.Schwanen (01019)\nAdresse: Stettiner Str. / Am Schwanen\, 42929 Wermelskirchen\n
LOCATION:Wermelskirchen.Schwanen (01019): Stettiner Str. / Am Schwanen\, 42929 Wermelskirchen
CATEGORIES:Saison 2024/25
END:VEVENT
BEGIN:VEVENT
DTSTAMP:20260420T040937Z
DTSTART;TZID=Europe/Berlin:20250223T160000
DTEND;TZID=Europe/Berlin:20250223T170000
SUMMARY:Regionsliga männliche Jugend C Gr. 2 Wermelskirchener TV vs ETB SW Essen II (34)
UID:3ee86e0f-2c1b-4b28-b7f3-bff9eca59a99
STATUS:CONFIRMED
LAST-MODIFIED:20250219T215944Z
DESCRIPTION:Regionsliga männliche Jugend C Gr. 2\nBegegnungs-Nr: 34\nHeim: Wermelskirchener TV\nGast: ETB SW Essen II\nHalle: Wermelskirchen.Schwanen (01019)\nAdresse: Stettiner Str. / Am Schwanen\, 42929 Wermelskirchen\n
LOCATION:Wermelskirchen.Schwanen (01019): Stettiner Str. / Am Schwanen\, 42929 Wermelskirchen
CATEGORIES:Saison 2024/25
END:VEVENT
BEGIN:VEVENT
DTSTAMP:20260420T040937Z
DTSTART;TZID=Europe/Berlin:20250323T150000
DTEND;TZID=Europe/Berlin:20250323T160000
SUMMARY:Regionsliga männliche Jugend C Gr. 2 Wermelskirchener TV vs HSG Rade/Herbeck (48)
UID:8661db75-44f9-454a-85cc-0ae504671f13
STATUS:CONFIRMED
LAST-MODIFIED:20250326T202619Z
DESCRIPTION:Regionsliga männliche Jugend C Gr. 2\nBegegnungs-Nr: 48\nHeim: Wermelskirchener TV\nGast: HSG Rade/Herbeck\nHalle: Wermelskirchen.Schwanen (01019)\nAdresse: Stettiner Str. / Am Schwanen\, 42929 Wermelskirchen\n
LOCATION:Wermelskirchen.Schwanen (01019): Stettiner Str. / Am Schwanen\, 42929 Wermelskirchen
CATEGORIES:Saison 2024/25
END:VEVENT
BEGIN:VEVENT
DTSTAMP:20260420T040937Z
DTSTART;TZID=Europe/Berlin:20250202T160000
DTEND;TZID=Europe/Berlin:20250202T170000
SUMMARY:Regionsliga männliche Jugend C Gr. 2 Wermelskirchener TV vs HSG Gerresheim (24)
UID:fbac9d0a-5a22-4f31-9683-7ea04b39d29d
STATUS:CONFIRMED
LAST-MODIFIED:20250207T144332Z
DESCRIPTION:Regionsliga männliche Jugend C Gr. 2\nBegegnungs-Nr: 24\nHeim: Wermelskirchener TV\nGast: HSG Gerresheim\nHalle: Wermelskirchen.Schwanen (01019)\nAdresse: Stettiner Str. / Am Schwanen\, 42929 Wermelskirchen\n
LOCATION:Wermelskirchen.Schwanen (01019): Stettiner Str. / Am Schwanen\, 42929 Wermelskirchen
CATEGORIES:Saison 2024/25
END:VEVENT
BEGIN:VEVENT
DTSTAMP:20260420T040937Z
DTSTART;TZID=Europe/Berlin:20240914T163000
DTEND;TZID=Europe/Berlin:20240914T173000
SUMMARY:Regionsoberliga männliche Jugend C Vorrunde Gr. 4 TuS Lintorf vs Wermelskirchener TV (1)
UID:0f4b30b4-484e-4d7c-b099-28bf0ec5d622
STATUS:CONFIRMED
LAST-MODIFIED:20240915T125611Z
DESCRIPTION:Regionsoberliga männliche Jugend C Vorrunde Gr. 4\nBegegnungs-Nr: 1\nHeim: TuS Lintorf\nGast: Wermelskirchener TV\nHalle: Schulzentrum Rtg.-Lintorf (04025)\nAdresse: White-Bear-Lake-Platz\, 40885 Ratingen\n
LOCATION:Schulzentrum Rtg.-Lintorf (04025): White-Bear-Lake-Platz\, 40885 Ratingen
CATEGORIES:Saison 2024/25
END:VEVENT
BEGIN:VEVENT
DTSTAMP:20260420T040937Z
DTSTART;TZID=Europe/Berlin:20241006T133000
DTEND;TZID=Europe/Berlin:20241006T143000
SUMMARY:Regionsoberliga männliche Jugend C Vorrunde Gr. 4 HSG Gerresheim vs Wermelskirchener TV (14)
UID:9f0c1a84-07a0-4974-9af8-f9b9f00a1d5f
STATUS:CONFIRMED
LAST-MODIFIED:20241024T192818Z
DESCRIPTION:Regionsoberliga männliche Jugend C Vorrunde Gr. 4\nBegegnungs-Nr: 14\nHeim: HSG Gerresheim\nGast: Wermelskirchener TV\nHalle: Marie-Curie-Gymnasium (04005)\nAdresse: Gräulinger Str. 15\, 40625 Düsseldorf\n
LOCATION:Marie-Curie-Gymnasium (04005): Gräulinger Str. 15\, 40625 Düsseldorf
CATEGORIES:Saison 2024/25
END:VEVENT
BEGIN:VEVENT
DTSTAMP:20260420T040937Z
DTSTART;TZID=Europe/Berlin:20241110T103000
DTEND;TZID=Europe/Berlin:20241110T113000
SUMMARY:Regionsoberliga männliche Jugend C Vorrunde Gr. 4 Kettwiger Sportverein 70/86 II vs Wermelskirchener TV (22)
UID:55e8189e-b44a-495b-82ae-33b93da588a0
STATUS:CONFIRMED
LAST-MODIFIED:20241112T161058Z
DESCRIPTION:Regionsoberliga männliche Jugend C Vorrunde Gr. 4\nBegegnungs-Nr: 22\nHeim: Kettwiger Sportverein 70/86 II\nGast: Wermelskirchener TV\nHalle: Theodor-Heuss-Gymnasium (05018)\nAdresse: Hauptstr. 148\, 45219 Essen\n
LOCATION:Theodor-Heuss-Gymnasium (05018): Hauptstr. 148\, 45219 Essen
CATEGORIES:Saison 2024/25
END:VEVENT
BEGIN:VEVENT
DTSTAMP:20260420T040937Z
DTSTART;TZID=Europe/Berlin:20250330T133000
DTEND;TZID=Europe/Berlin:20250330T143000
SUMMARY:Regionsliga männliche Jugend C Gr. 2 HSG Gerresheim vs Wermelskirchener TV (52)
UID:5a4f79ae-4b9d-4c7a-ba9c-c727da323643
STATUS:CONFIRMED
LAST-MODIFIED:20250404T155215Z
DESCRIPTION:Regionsliga männliche Jugend C Gr. 2\nBegegnungs-Nr: 52\nHeim: HSG Gerresheim\nGast: Wermelskirchener TV\nHalle: Marie-Curie-Gymnasium (04005)\nAdresse: Gräulinger Str. 15\, 40625 Düsseldorf\n
LOCATION:Marie-Curie-Gymnasium (04005): Gräulinger Str. 15\, 40625 Düsseldorf
CATEGORIES:Saison 2024/25
END:VEVENT
BEGIN:VEVENT
DTSTAMP:20260420T040937Z
DTSTART;TZID=Europe/Berlin:20250119T150000
DTEND;TZID=Europe/Berlin:20250119T160000
SUMMARY:Regionsliga männliche Jugend C Gr. 2 TSV Aufderhöhe vs Wermelskirchener TV (15)
UID:43c1f339-dff8-4cc7-ba0f-704d92b01e07
STATUS:CONFIRMED
LAST-MODIFIED:20250207T143914Z
DESCRIPTION:Regionsliga männliche Jugend C Gr. 2\nBegegnungs-Nr: 15\nHeim: TSV Aufderhöhe\nGast: Wermelskirchener TV\nHalle: SG.Börkhaus-Siebels (01030)\nAdresse: Uhlandstrasse 52\, 42699 Solingen\n
LOCATION:SG.Börkhaus-Siebels (01030): Uhlandstrasse 52\, 42699 Solingen
CATEGORIES:Saison 2024/25
END:VEVENT
BEGIN:VEVENT
DTSTAMP:20260420T040937Z
DTSTART;TZID=Europe/Berlin:20250328T184500
DTEND;TZID=Europe/Berlin:20250328T194500
SUMMARY:Regionsliga männliche Jugend C Gr. 2 ETB SW Essen II vs Wermelskirchener TV (6)
UID:9fd11a09-ab65-4e3d-8fde-7e4d60859c7a
STATUS:CONFIRMED
LAST-MODIFIED:20250404T155050Z
DESCRIPTION:Regionsliga männliche Jugend C Gr. 2\nBegegnungs-Nr: 6\nHeim: ETB SW Essen II\nGast: Wermelskirchener TV\nHalle: Raumerstr. (05001)\nAdresse: Raumerstr. 57\, 45144 Essen\n
LOCATION:Raumerstr. (05001): Raumerstr. 57\, 45144 Essen
CATEGORIES:Saison 2024/25
END:VEVENT
BEGIN:VEVENT
DTSTAMP:20260420T040937Z
DTSTART;TZID=Europe/Berlin:20250125T141500
DTEND;TZID=Europe/Berlin:20250125T151500
SUMMARY:Regionsliga männliche Jugend C Gr. 2 HSG Rade/Herbeck vs Wermelskirchener TV (20)
UID:c68a7b07-dae7-468a-9e92-79388b3f784a
STATUS:CONFIRMED
LAST-MODIFIED:20250207T144044Z
DESCRIPTION:Regionsliga männliche Jugend C Gr. 2\nBegegnungs-Nr: 20\nHeim: HSG Rade/Herbeck\nGast: Wermelskirchener TV\nHalle: Radevormwald.Gymnasium (01013)\nAdresse: Hermannstrasse\, 42477 Radevormwald\n
LOCATION:Radevormwald.Gymnasium (01013): Hermannstrasse\, 42477 Radevormwald
CATEGORIES:Saison 2024/25
END:VEVENT
BEGIN:VEVENT
DTSTAMP:20260420T040937Z
DTSTART;TZID=Europe/Berlin:20250215T144500
DTEND;TZID=Europe/Berlin:20250215T154500
SUMMARY:Regionsliga männliche Jugend C Gr. 2 SSG Wuppertal/HSV Wuppertal II vs Wermelskirchener TV (32)
UID:628894d3-952d-46d0-8002-84434858b0ed
STATUS:CONFIRMED
LAST-MODIFIED:20250223T124144Z
DESCRIPTION:Regionsliga männliche Jugend C Gr. 2\nBegegnungs-Nr: 32\nHeim: SSG Wuppertal/HSV Wuppertal II\nGast: Wermelskirchener TV\nHalle: Kothen Wuppertal-Unterbarmen (12009)\nAdresse: Rudolf-Steiner Str.2\, 42285 Wuppertal\n
LOCATION:Kothen Wuppertal-Unterbarmen (12009): Rudolf-Steiner Str.2\, 42285 Wuppertal
CATEGORIES:Saison 2024/25
END:VEVENT
BEGIN:VEVENT
DTSTAMP:20260420T040937Z
DTSTART;TZID=Europe/Berlin:20250209T120000
DTEND;TZID=Europe/Berlin:20250209T130000
SUMMARY:Regionsliga männliche Jugend C Gr. 2 MTG Horst Essen II vs Wermelskirchener TV (25)
UID:0bfb3c98-e269-4fef-b8f3-b1753a2a0e91
STATUS:CONFIRMED
LAST-MODIFIED:20250214T200225Z
DESCRIPTION:Regionsliga männliche Jugend C Gr. 2\nBegegnungs-Nr: 25\nHeim: MTG Horst Essen II\nGast: Wermelskirchener TV\nHalle: Gymn.-Wolfskuhle (05007)\nAdresse: Pinxtenweg 8\, 45276 Essen\n
LOCATION:Gymn.-Wolfskuhle (05007): Pinxtenweg 8\, 45276 Essen
CATEGORIES:Saison 2024/25
END:VEVENT
END:VCALENDAR
