BEGIN:VCALENDAR
PRODID:-//nuDatenautomaten//framework iCal4j //DE
VERSION:2.0
CALSCALE:GREGORIAN
BEGIN:VTIMEZONE
TZID:Europe/Berlin
LAST-MODIFIED:20260306T231828Z
TZURL:https://www.tzurl.org/zoneinfo/Europe/Berlin
X-LIC-LOCATION:Europe/Berlin
X-PROLEPTIC-TZNAME:LMT
BEGIN:STANDARD
TZNAME:CET
TZOFFSETFROM:+005328
TZOFFSETTO:+0100
DTSTART:18930401T000000
END:STANDARD
BEGIN:DAYLIGHT
TZNAME:CEST
TZOFFSETFROM:+0100
TZOFFSETTO:+0200
DTSTART:19160430T230000
RDATE:19400401T020000
RDATE:19430329T020000
RDATE:19460414T020000
RDATE:19470406T030000
RDATE:19480418T020000
RDATE:19490410T020000
RDATE:19800406T020000
END:DAYLIGHT
BEGIN:STANDARD
TZNAME:CET
TZOFFSETFROM:+0200
TZOFFSETTO:+0100
DTSTART:19161001T010000
RDATE:19421102T030000
RDATE:19431004T030000
RDATE:19441002T030000
RDATE:19451118T030000
RDATE:19461007T030000
END:STANDARD
BEGIN:DAYLIGHT
TZNAME:CEST
TZOFFSETFROM:+0100
TZOFFSETTO:+0200
DTSTART:19170416T020000
RRULE:FREQ=YEARLY;UNTIL=19180415T010000Z;BYMONTH=4;BYDAY=3MO
END:DAYLIGHT
BEGIN:STANDARD
TZNAME:CET
TZOFFSETFROM:+0200
TZOFFSETTO:+0100
DTSTART:19170917T030000
RRULE:FREQ=YEARLY;UNTIL=19180916T010000Z;BYMONTH=9;BYDAY=3MO
END:STANDARD
BEGIN:DAYLIGHT
TZNAME:CEST
TZOFFSETFROM:+0100
TZOFFSETTO:+0200
DTSTART:19440403T020000
RRULE:FREQ=YEARLY;UNTIL=19450402T010000Z;BYMONTH=4;BYDAY=1MO
END:DAYLIGHT
BEGIN:DAYLIGHT
TZNAME:CEMT
TZOFFSETFROM:+0200
TZOFFSETTO:+0300
DTSTART:19450524T020000
RDATE:19470511T030000
END:DAYLIGHT
BEGIN:DAYLIGHT
TZNAME:CEST
TZOFFSETFROM:+0300
TZOFFSETTO:+0200
DTSTART:19450924T030000
RDATE:19470629T030000
END:DAYLIGHT
BEGIN:STANDARD
TZNAME:CET
TZOFFSETFROM:+0100
TZOFFSETTO:+0100
DTSTART:19460101T000000
RDATE:19800101T000000
END:STANDARD
BEGIN:STANDARD
TZNAME:CET
TZOFFSETFROM:+0200
TZOFFSETTO:+0100
DTSTART:19471005T030000
RRULE:FREQ=YEARLY;UNTIL=19491002T010000Z;BYMONTH=10;BYDAY=1SU
END:STANDARD
BEGIN:STANDARD
TZNAME:CET
TZOFFSETFROM:+0200
TZOFFSETTO:+0100
DTSTART:19800928T030000
RRULE:FREQ=YEARLY;UNTIL=19950924T010000Z;BYMONTH=9;BYDAY=-1SU
END:STANDARD
BEGIN:DAYLIGHT
TZNAME:CEST
TZOFFSETFROM:+0100
TZOFFSETTO:+0200
DTSTART:19810329T020000
RRULE:FREQ=YEARLY;BYMONTH=3;BYDAY=-1SU
END:DAYLIGHT
BEGIN:STANDARD
TZNAME:CET
TZOFFSETFROM:+0200
TZOFFSETTO:+0100
DTSTART:19961027T030000
RRULE:FREQ=YEARLY;BYMONTH=10;BYDAY=-1SU
END:STANDARD
END:VTIMEZONE
BEGIN:VEVENT
DTSTAMP:20260425T130145Z
DTSTART;TZID=Europe/Berlin:20251129T133000
DTEND;TZID=Europe/Berlin:20251129T143000
SUMMARY:Regionsliga männliche Jugend C Schwarz-Rot Aachen vs SV Eilendorf II (721018)
UID:450d6c18-f6b1-45d2-8b27-201c9fec781b
STATUS:CONFIRMED
LAST-MODIFIED:20251201T102411Z
DESCRIPTION:Regionsliga männliche Jugend C\nBegegnungs-Nr: 721018\nHeim: Schwarz-Rot Aachen\nGast: SV Eilendorf II\nHalle: AC1A Aachen (02003)\nAdresse: Neuköllner Strasse II\, 52068 Aachen\n
LOCATION:AC1A Aachen (02003): Neuköllner Strasse II\, 52068 Aachen
CATEGORIES:Saison 2025/26
END:VEVENT
BEGIN:VEVENT
DTSTAMP:20260425T130145Z
DTSTART;TZID=Europe/Berlin:20251214T110000
DTEND;TZID=Europe/Berlin:20251214T120000
SUMMARY:Regionsliga männliche Jugend C Schwarz-Rot Aachen vs JSG Bardenberg / Merkstein (721026)
UID:58b48127-8cd1-4efe-8ec5-85204a63fd32
STATUS:CONFIRMED
LAST-MODIFIED:20251217T064926Z
DESCRIPTION:Regionsliga männliche Jugend C\nBegegnungs-Nr: 721026\nHeim: Schwarz-Rot Aachen\nGast: JSG Bardenberg / Merkstein\nHalle: AC1A Aachen (02003)\nAdresse: Neuköllner Strasse II\, 52068 Aachen\n
LOCATION:AC1A Aachen (02003): Neuköllner Strasse II\, 52068 Aachen
CATEGORIES:Saison 2025/26
END:VEVENT
BEGIN:VEVENT
DTSTAMP:20260425T130145Z
DTSTART;TZID=Europe/Berlin:20260208T133000
DTEND;TZID=Europe/Berlin:20260208T143000
SUMMARY:Regionsliga männliche Jugend C Schwarz-Rot Aachen vs VfR Übach-Palenberg Handball e.V. (721029)
UID:d6893fdf-2166-477a-87ac-362ac9a07843
STATUS:CONFIRMED
LAST-MODIFIED:20260209T182352Z
DESCRIPTION:Regionsliga männliche Jugend C\nBegegnungs-Nr: 721029\nHeim: Schwarz-Rot Aachen\nGast: VfR Übach-Palenberg Handball e.V.\nHalle: AC1A Aachen (02003)\nAdresse: Neuköllner Strasse II\, 52068 Aachen\n
LOCATION:AC1A Aachen (02003): Neuköllner Strasse II\, 52068 Aachen
CATEGORIES:Saison 2025/26
END:VEVENT
BEGIN:VEVENT
DTSTAMP:20260425T130145Z
DTSTART;TZID=Europe/Berlin:20260307T160000
DTEND;TZID=Europe/Berlin:20260307T170000
SUMMARY:Regionsliga männliche Jugend C Schwarz-Rot Aachen vs SG Düren 1899 (721050)
UID:23f90097-82be-4361-bf11-a62379853508
STATUS:CONFIRMED
LAST-MODIFIED:20260318T213649Z
DESCRIPTION:Regionsliga männliche Jugend C\nBegegnungs-Nr: 721050\nHeim: Schwarz-Rot Aachen\nGast: SG Düren 1899\nHalle: AC1A Aachen (02003)\nAdresse: Neuköllner Strasse II\, 52068 Aachen\n
LOCATION:AC1A Aachen (02003): Neuköllner Strasse II\, 52068 Aachen
CATEGORIES:Saison 2025/26
END:VEVENT
BEGIN:VEVENT
DTSTAMP:20260425T130145Z
DTSTART;TZID=Europe/Berlin:20250920T153000
DTEND;TZID=Europe/Berlin:20250920T163000
SUMMARY:Regionsliga männliche Jugend C Schwarz-Rot Aachen vs Eschweiler SG II (721006)
UID:1909ce57-5a61-4f13-bf4a-2e75dfc8e540
STATUS:CONFIRMED
LAST-MODIFIED:20250921T104246Z
DESCRIPTION:Regionsliga männliche Jugend C\nBegegnungs-Nr: 721006\nHeim: Schwarz-Rot Aachen\nGast: Eschweiler SG II\nHalle: AC1A Aachen (02003)\nAdresse: Neuköllner Strasse II\, 52068 Aachen\n
LOCATION:AC1A Aachen (02003): Neuköllner Strasse II\, 52068 Aachen
CATEGORIES:Saison 2025/26
END:VEVENT
BEGIN:VEVENT
DTSTAMP:20260425T130145Z
DTSTART;TZID=Europe/Berlin:20251117T183000
DTEND;TZID=Europe/Berlin:20251117T193000
SUMMARY:Regionsliga männliche Jugend C Schwarz-Rot Aachen vs TV Birkesdorf (721010)
UID:d599d7c2-d37c-43a6-82b2-4fc98cd50692
STATUS:CONFIRMED
LAST-MODIFIED:20251201T102329Z
DESCRIPTION:Regionsliga männliche Jugend C\nBegegnungs-Nr: 721010\nHeim: Schwarz-Rot Aachen\nGast: TV Birkesdorf\nHalle: AC1 Aachen (02002)\nAdresse: Neuköllner Strasse I\, 52068 Aachen\n
LOCATION:AC1 Aachen (02002): Neuköllner Strasse I\, 52068 Aachen
CATEGORIES:Saison 2025/26
END:VEVENT
BEGIN:VEVENT
DTSTAMP:20260425T130145Z
DTSTART;TZID=Europe/Berlin:20260221T133000
DTEND;TZID=Europe/Berlin:20260221T143000
SUMMARY:Regionsliga männliche Jugend C Schwarz-Rot Aachen vs BTB Aachen II (721042)
UID:c43a3048-339a-41cb-8c80-9937434bdf0b
STATUS:CONFIRMED
LAST-MODIFIED:20260225T124237Z
DESCRIPTION:Regionsliga männliche Jugend C\nBegegnungs-Nr: 721042\nHeim: Schwarz-Rot Aachen\nGast: BTB Aachen II\nHalle: AC1A Aachen (02003)\nAdresse: Neuköllner Strasse II\, 52068 Aachen\n
LOCATION:AC1A Aachen (02003): Neuköllner Strasse II\, 52068 Aachen
CATEGORIES:Saison 2025/26
END:VEVENT
BEGIN:VEVENT
DTSTAMP:20260425T130145Z
DTSTART;TZID=Europe/Berlin:20260228T163000
DTEND;TZID=Europe/Berlin:20260228T173000
SUMMARY:Regionsliga männliche Jugend C SV Eilendorf II vs Schwarz-Rot Aachen (721046)
UID:2a6a1694-07bc-4f5f-9de0-0b6f0544eb53
STATUS:CONFIRMED
LAST-MODIFIED:20260318T213849Z
DESCRIPTION:Regionsliga männliche Jugend C\nBegegnungs-Nr: 721046\nHeim: SV Eilendorf II\nGast: Schwarz-Rot Aachen\nHalle: AC3 Aachen Brander Feld (02005)\nAdresse: Rombachstrasse\, 52078 Aachen\n
LOCATION:AC3 Aachen Brander Feld (02005): Rombachstrasse\, 52078 Aachen
CATEGORIES:Saison 2025/26
END:VEVENT
BEGIN:VEVENT
DTSTAMP:20260425T130145Z
DTSTART;TZID=Europe/Berlin:20251215T180000
DTEND;TZID=Europe/Berlin:20251215T190000
SUMMARY:Regionsliga männliche Jugend C VfR Übach-Palenberg Handball e.V. vs Schwarz-Rot Aachen (721001)
UID:9c4df0ad-2cc2-4f6d-b648-210ad53ef372
STATUS:CONFIRMED
LAST-MODIFIED:20260118T202318Z
DESCRIPTION:Regionsliga männliche Jugend C\nBegegnungs-Nr: 721001\nHeim: VfR Übach-Palenberg Handball e.V.\nGast: Schwarz-Rot Aachen\nHalle: ÜP1 Übach/Palenberg Barbarastrasse (02044)\nAdresse: Barbarastrasse\, 52531 Übach/Palenberg\n
LOCATION:ÜP1 Übach/Palenberg Barbarastrasse (02044): Barbarastrasse\, 52531 Übach/Palenberg
CATEGORIES:Saison 2025/26
END:VEVENT
BEGIN:VEVENT
DTSTAMP:20260425T130145Z
DTSTART;TZID=Europe/Berlin:20251108T161500
DTEND;TZID=Europe/Berlin:20251108T171500
SUMMARY:Regionsliga männliche Jugend C BTB Aachen II vs Schwarz-Rot Aachen (721014)
UID:6cc9b633-e906-41b2-8328-711694491a1f
STATUS:CONFIRMED
LAST-MODIFIED:20251110T172750Z
DESCRIPTION:Regionsliga männliche Jugend C\nBegegnungs-Nr: 721014\nHeim: BTB Aachen II\nGast: Schwarz-Rot Aachen\nHalle: AC4 Aachen Inda/Gymnasium (02006)\nAdresse: Romerich\, 52078 Aachen\n
LOCATION:AC4 Aachen Inda/Gymnasium (02006): Romerich\, 52078 Aachen
CATEGORIES:Saison 2025/26
END:VEVENT
BEGIN:VEVENT
DTSTAMP:20260425T130145Z
DTSTART;TZID=Europe/Berlin:20260207T173000
DTEND;TZID=Europe/Berlin:20260207T183000
SUMMARY:Regionsliga männliche Jugend C SG Düren 1899 vs Schwarz-Rot Aachen (721022)
UID:fd46c0a2-f5af-4313-aa19-c0a9e3ea0d93
STATUS:CONFIRMED
LAST-MODIFIED:20260209T182323Z
DESCRIPTION:Regionsliga männliche Jugend C\nBegegnungs-Nr: 721022\nHeim: SG Düren 1899\nGast: Schwarz-Rot Aachen\nHalle: DN/KSPH Düren Kreissporthalle (02029)\nAdresse: Euskirchener Strasse 124\, 52321 Düren\n
LOCATION:DN/KSPH Düren Kreissporthalle (02029): Euskirchener Strasse 124\, 52321 Düren
CATEGORIES:Saison 2025/26
END:VEVENT
BEGIN:VEVENT
DTSTAMP:20260425T130145Z
DTSTART;TZID=Europe/Berlin:20260124T134500
DTEND;TZID=Europe/Berlin:20260124T144500
SUMMARY:Regionsliga männliche Jugend C Eschweiler SG II vs Schwarz-Rot Aachen (721034)
UID:ad596b5f-ac40-4227-818a-2ece1d192054
STATUS:CONFIRMED
LAST-MODIFIED:20260127T210818Z
DESCRIPTION:Regionsliga männliche Jugend C\nBegegnungs-Nr: 721034\nHeim: Eschweiler SG II\nGast: Schwarz-Rot Aachen\nHalle: E2 Eschweiler Lessingstrasse (02023)\nAdresse: Lessingstrasse\, 52249 Eschweiler\n
LOCATION:E2 Eschweiler Lessingstrasse (02023): Lessingstrasse\, 52249 Eschweiler
CATEGORIES:Saison 2025/26
END:VEVENT
BEGIN:VEVENT
DTSTAMP:20260425T130145Z
DTSTART;TZID=Europe/Berlin:20260201T143000
DTEND;TZID=Europe/Berlin:20260201T153000
SUMMARY:Regionsliga männliche Jugend C TV Birkesdorf vs Schwarz-Rot Aachen (721038)
UID:95594009-a583-4311-859f-a4350fe16f92
STATUS:CONFIRMED
LAST-MODIFIED:20260205T161031Z
DESCRIPTION:Regionsliga männliche Jugend C\nBegegnungs-Nr: 721038\nHeim: TV Birkesdorf\nGast: Schwarz-Rot Aachen\nHalle: BIRK Düren Birkesdorf Festhalle (02030)\nAdresse: An der Festhalle 18 a\, 52353 Düren\n
LOCATION:BIRK Düren Birkesdorf Festhalle (02030): An der Festhalle 18 a\, 52353 Düren
CATEGORIES:Saison 2025/26
END:VEVENT
BEGIN:VEVENT
DTSTAMP:20260425T130145Z
DTSTART;TZID=Europe/Berlin:20260315T113000
DTEND;TZID=Europe/Berlin:20260315T123000
SUMMARY:Regionsliga männliche Jugend C JSG Bardenberg / Merkstein vs Schwarz-Rot Aachen (721054)
UID:00feaed9-e9b1-4247-be35-ff10d3a17086
STATUS:CONFIRMED
LAST-MODIFIED:20260318T172758Z
DESCRIPTION:Regionsliga männliche Jugend C\nBegegnungs-Nr: 721054\nHeim: JSG Bardenberg / Merkstein\nGast: Schwarz-Rot Aachen\nHalle: W3 Würselen (02014)\nAdresse: Bardenberger Strasse\, 52146 Würselen\n
LOCATION:W3 Würselen (02014): Bardenberger Strasse\, 52146 Würselen
CATEGORIES:Saison 2025/26
END:VEVENT
END:VCALENDAR
